BEGIN:VCALENDAR
VERSION:2.0
PRODID:-//HRRA - ECPv5.1.1//NONSGML v1.0//EN
CALSCALE:GREGORIAN
METHOD:PUBLISH
X-WR-CALNAME:HRRA
X-ORIGINAL-URL:https://hrra.guam.gov
X-WR-CALDESC:Events for HRRA
BEGIN:VTIMEZONE
TZID:UTC
BEGIN:STANDARD
TZOFFSETFROM:+0000
TZOFFSETTO:+0000
TZNAME:UTC
DTSTART:20160101T000000
END:STANDARD
END:VTIMEZONE
BEGIN:VEVENT
DTSTART;TZID=UTC:20161223T080000
DTEND;TZID=UTC:20161223T170000
DTSTAMP:20210428T162953
CREATED:20161216T114159Z
LAST-MODIFIED:20161220T062229Z
UID:3262-1482480000-1482512400@hrra.guam.gov
SUMMARY:DCA TESTING EVENT
DESCRIPTION:DCA TESTING EVENT \n
URL:https://hrra.guam.gov/event/dca-testing-event-2016-12-23/
LOCATION:Guam Power Authoriy\, Gloria B. Nelson Public Utilities Complex\, Route 15\, Mangilao\, 395007\, Guam
CATEGORIES:bsp4_cat,GovGuam Employees
ORGANIZER;CN="Government%20Associations%20of%20Professionals":MAILTO:otech@guam.gov
END:VEVENT
END:VCALENDAR