BEGIN:VCALENDAR
VERSION:2.0
PRODID:-//HRRA - ECPv5.1.1//NONSGML v1.0//EN
CALSCALE:GREGORIAN
METHOD:PUBLISH
X-WR-CALNAME:HRRA
X-ORIGINAL-URL:https://hrra.guam.gov
X-WR-CALDESC:Events for HRRA
BEGIN:VTIMEZONE
TZID:UTC
BEGIN:STANDARD
TZOFFSETFROM:+0000
TZOFFSETTO:+0000
TZNAME:UTC
DTSTART:20170101T000000
END:STANDARD
END:VTIMEZONE
BEGIN:VEVENT
DTSTART;TZID=UTC:20170113T080000
DTEND;TZID=UTC:20170113T170000
DTSTAMP:20210428T163116
CREATED:20170113T131252Z
LAST-MODIFIED:20170113T132256Z
UID:3433-1484294400-1484326800@hrra.guam.gov
SUMMARY:dca2017new
DESCRIPTION:
URL:https://hrra.guam.gov/event/dca2017new/
LOCATION:DCA TESTING EVENT\, 302 South Route 4 Suite 100\, Hagatna\, AL\, 96910
CATEGORIES:Conference/Workshop
ORGANIZER;CN="test-govern-organize":MAILTO:team.lanet@gmail.com
END:VEVENT
END:VCALENDAR